BEGIN:VCALENDAR
VERSION:2.0
PRODID:-//ChamberMaster//Event Calendar 2.0//EN
METHOD:PUBLISH
X-PUBLISHED-TTL:P3D
REFRESH-INTERVAL:P3D
CALSCALE:GREGORIAN
BEGIN:VEVENT
DTSTART:20221026T121500Z
DTEND:20221026T210000Z
X-MICROSOFT-CDO-ALLDAYEVENT:FALSE
SUMMARY:2022 Annual McHenry Dementia Conference
DESCRIPTION:2022 Annual McHenry Dementia Conference
X-ALT-DESC;FMTTYPE=text/html:2022 Annual McHenry Dementia Conference
LOCATION:McHenry Country Club 820 N. John St. McHenry\, IL
UID:e.2066.4648
SEQUENCE:3
DTSTAMP:20260422T105647Z
URL:https://dev.chainolakeschamber.com/events/details/2022-annual-mchenry-dementia-conference-4648
END:VEVENT

END:VCALENDAR
