BEGIN:VCALENDAR
VERSION:2.0
PRODID:-//ChamberMaster//Event Calendar 2.0//EN
METHOD:PUBLISH
X-PUBLISHED-TTL:P3D
REFRESH-INTERVAL:P3D
CALSCALE:GREGORIAN
BEGIN:VEVENT
DTSTART:20200312T140000Z
DTEND:20200312T190000Z
X-MICROSOFT-CDO-ALLDAYEVENT:FALSE
SUMMARY:2020 Business and Craft Expo
DESCRIPTION:POSTPONED
X-ALT-DESC;FMTTYPE=text/html:<span style="font-size:24px\;">POSTPONED</span><br />\n<br />\n&nbsp\;
LOCATION:Richmond Burton High School 8311 Illinois Route 31 Richmond\, IL 60071
UID:e.2066.3185
SEQUENCE:3
DTSTAMP:20260424T142542Z
URL:https://dev.chainolakeschamber.com/events/details/2020-business-and-craft-expo-3185
END:VEVENT

END:VCALENDAR
