BEGIN:VCALENDAR
VERSION:2.0
PRODID:-//ChamberMaster//Event Calendar 2.0//EN
METHOD:PUBLISH
X-PUBLISHED-TTL:P3D
REFRESH-INTERVAL:P3D
CALSCALE:GREGORIAN
BEGIN:VEVENT
DTSTART:20230722T200000Z
DTEND:20230722T220000Z
X-MICROSOFT-CDO-ALLDAYEVENT:FALSE
SUMMARY:1st of DOUBLE GRAND OPENING - Black Lung Brewing Fox Lake
DESCRIPTION:Join us for the first of the Double Grand Opening/Ribbon Cutting/Mixer at Black Lung Brewing Company's Fox Lake location with a Ribbon Cutting and Mixer!\n\nSnacks will be available and one beer ticket per attendee along with a beautiful Nippersink Lake view.\n\nThis is a free event\, but please RSVP
X-ALT-DESC;FMTTYPE=text/html:Join us for the first of the Double Grand Opening/Ribbon Cutting/Mixer at Black Lung Brewing Company&#39\;s Fox Lake location with a Ribbon Cutting and Mixer!<br />\nSnacks will be available and one beer ticket per attendee along with a beautiful Nippersink Lake view.<br />\nThis is a free event\, but please RSVP
LOCATION:Black Lung Brewing Company 115 Nippersink Blvd Fox Lake IL 60020
UID:e.2066.5268
SEQUENCE:3
DTSTAMP:20260419T140432Z
URL:https://dev.chainolakeschamber.com/events/details/1st-of-double-grand-opening-black-lung-brewing-fox-lake-5268
END:VEVENT

END:VCALENDAR
