BEGIN:VCALENDAR
VERSION:2.0
PRODID:-//ChamberMaster//Event Calendar 2.0//EN
METHOD:PUBLISH
X-PUBLISHED-TTL:P3D
REFRESH-INTERVAL:P3D
CALSCALE:GREGORIAN
BEGIN:VEVENT
DTSTART:20230826T150000Z
DTEND:20230827T030000Z
X-MICROSOFT-CDO-ALLDAYEVENT:FALSE
SUMMARY:150 Year Anniversary - Lake Geneva Ministries!
DESCRIPTION:YOU ARE INVITED TO CELEBRATE OUR 150TH CELEBRATION!\n\nIn 2010\, Lake Geneva Ministries assumed the management and oversight of the Conference Point Center. For over a decade\, Lake Geneva Ministries has invested significantly\, developed new programs\, and increased non-profit and ministry partnerships\, bringing this historic property back to life. Today\, over 10\,000 lives each year are impacted by Conference Point Center with the love of God. Lake Geneva Ministries wants to celebrate the restoration and preservation of this vital camp ministry with our constituents and community.
X-ALT-DESC;FMTTYPE=text/html:YOU ARE INVITED TO CELEBRATE OUR 150TH CELEBRATION!<br />\nIn 2010\, Lake Geneva Ministries assumed the management and oversight of the Conference Point Center. For over a decade\, Lake Geneva Ministries has invested significantly\, developed new programs\, and increased non-profit and ministry partnerships\, bringing this historic property back to life. Today\, over 10\,000 lives each year are impacted by Conference Point Center with the love of God. Lake Geneva Ministries wants to celebrate the restoration and preservation of this vital camp ministry with our constituents and community.
LOCATION:Conference Point Center 300 Conference Point Rd Williams Bay\, WI 53147
UID:e.2066.5288
SEQUENCE:3
DTSTAMP:20260419T121453Z
URL:https://dev.chainolakeschamber.com/events/details/150-year-anniversary-lake-geneva-ministries-5288
END:VEVENT

END:VCALENDAR
