BEGIN:VCALENDAR
VERSION:2.0
PRODID:-//ChamberMaster//Event Calendar 2.0//EN
METHOD:PUBLISH
X-PUBLISHED-TTL:P3D
REFRESH-INTERVAL:P3D
CALSCALE:GREGORIAN
BEGIN:VEVENT
DTSTART:20221119T150000Z
DTEND:20221119T210000Z
X-MICROSOFT-CDO-ALLDAYEVENT:FALSE
SUMMARY:14th Anniversary Pawty
DESCRIPTION:Exclusive (and incredible!!) sales\, raffles\, goody bags\, free gifts\, and so much more! Thank you for your support over the last 14 years! Join us for our 14 year anniversary event happening on Saturday\, November 19th
X-ALT-DESC;FMTTYPE=text/html:<span style="color: rgb(119\, 119\, 119)\; font-family: Roboto\; font-size: 22px\; background-color: rgb(255\, 255\, 255)\;">Exclusive (and incredible!!) sales\, raffles\, goody bags\, free gifts\, and so much more! Thank you for your support over the last 14 years! Join us for our 14 year anniversary event happening on Saturday\, November 19th&nbsp\;</span>
LOCATION:
UID:e.2066.4588
SEQUENCE:3
DTSTAMP:20260422T092330Z
URL:https://dev.chainolakeschamber.com/events/details/14th-anniversary-pawty-4588
END:VEVENT

END:VCALENDAR
