BEGIN:VCALENDAR
VERSION:2.0
PRODID:-//ChamberMaster//Event Calendar 2.0//EN
METHOD:PUBLISH
X-PUBLISHED-TTL:P3D
REFRESH-INTERVAL:P3D
CALSCALE:GREGORIAN
BEGIN:VEVENT
DTSTART:20220430T233000Z
DTEND:20220501T023000Z
X-MICROSOFT-CDO-ALLDAYEVENT:FALSE
SUMMARY:125th Anniversary Jubilee!
DESCRIPTION:Join us for Allendale's 125th Anniversary Jubilee event at the Lake Forest Club on April 30th\, 2022\, honoring and celebrating a distinguished legacy of care and service for children and families in most need. At Allendale\, we believe in every child until they can believe in themselves! Please consider being a 125th Anniversary sponsor for 2022! Below please find a list of sponsorship levels with corresponding benefits!
X-ALT-DESC;FMTTYPE=text/html:Join us for Allendale&rsquo\;s 125th Anniversary Jubilee event at the Lake Forest Club on April 30th\, 2022\, honoring and celebrating a distinguished legacy of care and service for children and families in most need. At Allendale\, we believe in every child until they can believe in themselves! Please consider being a 125th Anniversary sponsor for 2022! Below please find a list of sponsorship levels with corresponding benefits!
LOCATION:Lake Forest Club
UID:e.2066.4490
SEQUENCE:3
DTSTAMP:20260422T223539Z
URL:https://dev.chainolakeschamber.com/events/details/125th-anniversary-jubilee-4490
END:VEVENT

END:VCALENDAR
